BEGIN:VCALENDAR
VERSION:2.0
PRODID:-//eventon.com NONSGML v1.0//EN
BEGIN:VEVENT
UID:69eb276530b5d
DTSTAMP:20260424T031845
DTSTART:20200731T133000Z
DTEND:20200731T160000Z
TZID:UTC
LOCATION:
SUMMARY:Shoe Painting
DESCRIPTION: Design your shoes\,  bag\,  or T-shirt—leather\,  canvas\,  or fabric. Participants paint items that they provide. All paint and tools provided. Perfect for a wedding party event. $30 Advance registration required.\nhttps://inspirationsartists.com/events/shoe-painting/
URL:https://inspirationsartists.com/events/shoe-painting/
END:VEVENT
END:VCALENDAR