BEGIN:VCALENDAR
VERSION:2.0
PRODID:-//eventon.com NONSGML v1.0//EN
BEGIN:VEVENT
UID:69e5ee43a7c60
DTSTAMP:20260420T041339
DTSTART:20201116T183000Z
DTEND:20201116T213000Z
TZID:UTC
LOCATION:
SUMMARY:Necklace Design & Basic Beading - Paula Brody
DESCRIPTION: One Day Class $75 includes all supplies for making a beautiful hand-crafted necklace Monday\,  November 16\,  2020\,  January 18\,  2021\,  February 15\,  2021 Various beading patterns and combinations of gemstone and glass bead colors\,  sizes and shapes will be demonstrated. A wide variety of beads and all other supplies are[..]\nhttps://inspirationsartists.com/events/necklace-design-basic-beading-paula-brody-2/
URL:https://inspirationsartists.com/events/necklace-design-basic-beading-paula-brody-2/
END:VEVENT
END:VCALENDAR